BEGIN:VCALENDAR
VERSION:2.0
PRODID:-//Optimate Financial Solutions - ECPv6.15.17.1//NONSGML v1.0//EN
CALSCALE:GREGORIAN
METHOD:PUBLISH
X-WR-CALNAME:Optimate Financial Solutions
X-ORIGINAL-URL:https://ofs.co.za
X-WR-CALDESC:Events for Optimate Financial Solutions
REFRESH-INTERVAL;VALUE=DURATION:PT1H
X-Robots-Tag:noindex
X-PUBLISHED-TTL:PT1H
BEGIN:VTIMEZONE
TZID:Africa/Johannesburg
BEGIN:STANDARD
TZOFFSETFROM:+0200
TZOFFSETTO:+0200
TZNAME:SAST
DTSTART:20230101T000000
END:STANDARD
END:VTIMEZONE
BEGIN:VEVENT
DTSTART;TZID=Africa/Johannesburg:20250226T120000
DTEND;TZID=Africa/Johannesburg:20250226T130000
DTSTAMP:20260421T172032
CREATED:20250127T143225Z
LAST-MODIFIED:20250127T144130Z
UID:27798-1740571200-1740574800@ofs.co.za
SUMMARY:Climb the Ladder
DESCRIPTION:Climb the Ladder is a presentation in the Financially Fit Series for clients between the ages of 19 and 34 years of age. \nWorking hard at building your career while juggling the demands of setting up a home is no easy task. It’s not just a matter of finding the time to do it all\, it’s about being able to balance providing for today as well as securing your future. \nNow is the time to take control of your finances by developing good habits and starting to put the building blocks in place that will afford you the lifestyle you want. \nIn a one hour session we will look at how to manage mounting debts like bonds\, cars and the spiralling cost of education. We unpack investing to match your current and future needs as well as risk benefits to ensure that your family will be looked after now and into the future.
URL:https://ofs.co.za/event/climb-the-ladder-3/
LOCATION:Webinar\, South Africa
CATEGORIES:2025,Financially Fit
ATTACH;FMTTYPE=image/jpeg:https://ofs.co.za/wp-content/uploads/2017/05/shutterstock_276406064-Green-e1494342243428-scaled.jpg
END:VEVENT
BEGIN:VEVENT
DTSTART;TZID=Africa/Johannesburg:20250226T093000
DTEND;TZID=Africa/Johannesburg:20250226T110000
DTSTAMP:20260421T172032
CREATED:20250127T143424Z
LAST-MODIFIED:20250127T144225Z
UID:27795-1740562200-1740567600@ofs.co.za
SUMMARY:The Next Adventure
DESCRIPTION:The Next Adventure is a presentation in the Financially Fit Series for clients who are between the ages of 55 and 65 years of age. \nIn the last 10 years of your career\, you should start thinking about the next adventure\, your retirement. This presentation looks at comparing various types of annuities; income sustainability in relation to your retirement living expenses; focusing on your health and budgeting for a comprehensive medical aid. \nThis is the introduction to the last phase of your financial planning and should be followed up with a retirement benefit counselling session with one of the Certified Financial Planners from Optimate Financial Solutions. \nThe event will be broadcast as a webinar.
URL:https://ofs.co.za/event/the-next-adventure-4/
CATEGORIES:2025,Financially Fit
ATTACH;FMTTYPE=image/png:https://ofs.co.za/wp-content/uploads/2018/04/dreamstime_l_40293236-e1522934812224-scaled.png
LOCATION:https://teams.microsoft.com/l/meetup-join/19%3ameeting_ZmNkYTU0OGMtMWI3Ni00YjVkLTk1ODgtMTRmYjU1MjAxYWM4%40thread.v2/0?context=%7b%22Tid%22%3a%2249e076dc-c60e-42aa-9f32-53624e26ae36%22%2c%22Oid%22%3a%22b48420bc-1e44-4372-962e-4716cfef4cf9%22%7d
END:VEVENT
BEGIN:VEVENT
DTSTART;TZID=Africa/Johannesburg:20241121T120000
DTEND;TZID=Africa/Johannesburg:20241121T130000
DTSTAMP:20260421T172032
CREATED:20240216T134348Z
LAST-MODIFIED:20241031T132516Z
UID:25764-1732190400-1732194000@ofs.co.za
SUMMARY:Climb the Ladder
DESCRIPTION:Climb the Ladder is a presentation in the Financially Fit Series for clients between the ages of 19 and 34 years of age. \nWorking hard at building your career while juggling the demands of setting up a home is no easy task. It’s not just a matter of finding the time to do it all\, it’s about being able to balance providing for today as well as securing your future. \nNow is the time to take control of your finances by developing good habits and starting to put the building blocks in place that will afford you the lifestyle you want. \nIn a one hour session we will look at how to manage mounting debts like bonds\, cars and the spiralling cost of education. We unpack investing to match your current and future needs as well as risk benefits to ensure that your family will be looked after now and into the future.
URL:https://ofs.co.za/event/climb-the-ladder-2/
LOCATION:Webinar\, South Africa
CATEGORIES:2024,Climbing the Ladder
ATTACH;FMTTYPE=image/png:https://ofs.co.za/wp-content/uploads/2018/04/shutterstock_276406064-e1523020438955-scaled.png
END:VEVENT
BEGIN:VEVENT
DTSTART;TZID=Africa/Johannesburg:20241121T090000
DTEND;TZID=Africa/Johannesburg:20241121T103000
DTSTAMP:20260421T172032
CREATED:20240216T132702Z
LAST-MODIFIED:20240625T135223Z
UID:25754-1732179600-1732185000@ofs.co.za
SUMMARY:The Next Adventure
DESCRIPTION:The Next Adventure is a presentation in the Financially Fit Series for clients who are between the ages of 55 and 65 years of age. \nIn the last 10 years of your career\, you should start thinking about the next adventure\, your retirement. This presentation looks at comparing various types of annuities; income sustainability in relation to your retirement living expenses; focusing on your health and budgeting for a comprehensive medical aid. \nThis is the introduction to the last phase of your financial planning and should be followed up with a retirement benefit counselling session with one of the Certified Financial Planners from Optimate Financial Solutions. \nThe event will be broadcast as a webinar.
URL:https://ofs.co.za/event/the-next-adventure-3/
LOCATION:Webinar\, South Africa
CATEGORIES:2024,The Next Adventure
ATTACH;FMTTYPE=image/png:https://ofs.co.za/wp-content/uploads/2018/04/dreamstime_l_40293236-e1522934812224-scaled.png
END:VEVENT
BEGIN:VEVENT
DTSTART;TZID=Africa/Johannesburg:20240822T120000
DTEND;TZID=Africa/Johannesburg:20240822T130000
DTSTAMP:20260421T172032
CREATED:20240216T133834Z
LAST-MODIFIED:20240625T135235Z
UID:25762-1724328000-1724331600@ofs.co.za
SUMMARY:I Made It
DESCRIPTION:I Made It is a presentation in the Financially Fit Series that is offered to Pension and Provident Fund members who are between the ages of 45 and 60 years of age. \nWhen you have achieved the peak in your career with all the accomplishments\, rewards and recognition of settling some debt;  the children are starting to move on and make their own way in life\, it’s once again time to do a health check on your financial fitness. Consolidating assets\, paying the last of educational /university fees and looking toward additional retirement savings are all important aspects of this presentation.
URL:https://ofs.co.za/event/i-made-it/
LOCATION:Webinar\, South Africa
CATEGORIES:2024,I Made It
ATTACH;FMTTYPE=image/png:https://ofs.co.za/wp-content/uploads/2018/04/dreamstime_l_22971649-e1522933327809.png
END:VEVENT
BEGIN:VEVENT
DTSTART;TZID=Africa/Johannesburg:20240822T090000
DTEND;TZID=Africa/Johannesburg:20240822T103000
DTSTAMP:20260421T172032
CREATED:20240216T132249Z
LAST-MODIFIED:20240216T132249Z
UID:25751-1724317200-1724322600@ofs.co.za
SUMMARY:The Next Adventure
DESCRIPTION:The Next Adventure is a presentation in the Financially Fit Series for clients who are between the ages of 55 and 65 years of age. \nIn the last 10 years of your career\, you should start thinking about the next adventure\, your retirement. This presentation looks at comparing various types of annuities; income sustainability in relation to your retirement living expenses; focusing on your health and budgeting for a comprehensive medical aid. \nThis is the introduction to the last phase of your financial planning and should be followed up with a retirement benefit counselling session with one of the Certified Financial Planners from Optimate Financial Solutions. \nThe event will be broadcast as a webinar.
URL:https://ofs.co.za/event/the-next-adventure-2/
LOCATION:Webinar\, South Africa
CATEGORIES:The Next Adventure
ATTACH;FMTTYPE=image/png:https://ofs.co.za/wp-content/uploads/2018/04/dreamstime_l_40293236-e1522934812224-scaled.png
END:VEVENT
BEGIN:VEVENT
DTSTART;TZID=Africa/Johannesburg:20240523T120000
DTEND;TZID=Africa/Johannesburg:20240523T130000
DTSTAMP:20260421T172032
CREATED:20240216T133411Z
LAST-MODIFIED:20240216T133411Z
UID:25759-1716465600-1716469200@ofs.co.za
SUMMARY:Family Ties
DESCRIPTION:Family Ties is a presentation in the Financially Fit Series that is offered to Pension and Provident Fund members who are between the ages of 30 and 50 years of age. \nAs your family grows and your asset base grows it’s time to protect  the wealth you have created and secure your family finances\, should the unthinkable happen. \nWe will look at how to budget for your children’s education; how to protect your greatest asset (the ability to generate an income); your retirement goals and ensuring you have appropriate medical aid cover well into your retirement. We will also investigate at how best to preserve your retirement savings when changing jobs and the consequences resulting from not preserving.
URL:https://ofs.co.za/event/family-ties/
LOCATION:Webinar\, South Africa
CATEGORIES:Family Ties
ATTACH;FMTTYPE=image/png:https://ofs.co.za/wp-content/uploads/2018/07/dreamstime_l_16143234-e1531487929582-scaled.png
END:VEVENT
BEGIN:VEVENT
DTSTART;TZID=Africa/Johannesburg:20240523T090000
DTEND;TZID=Africa/Johannesburg:20240523T103000
DTSTAMP:20260421T172032
CREATED:20240216T131334Z
LAST-MODIFIED:20240625T135255Z
UID:25745-1716454800-1716460200@ofs.co.za
SUMMARY:The Next Adventure
DESCRIPTION:The Next Adventure is a presentation in the Financially Fit Series for clients who are between the ages of 55 and 65 years of age. \nIn the last 10 years of your career\, you should start thinking about the next adventure\, your retirement. This presentation looks at comparing various types of annuities; income sustainability in relation to your retirement living expenses; focusing on your health and budgeting for a comprehensive medical aid. \nThis is the introduction to the last phase of your financial planning and should be followed up with a retirement benefit counselling session with one of the Certified Financial Planners from Optimate Financial Solutions. \nThe event will be broadcast as a webinar.
URL:https://ofs.co.za/event/the-next-adventure/
LOCATION:Webinar\, South Africa
CATEGORIES:2024,The Next Adventure
ATTACH;FMTTYPE=image/png:https://ofs.co.za/wp-content/uploads/2018/04/dreamstime_l_40293236-e1522934812224-scaled.png
END:VEVENT
END:VCALENDAR